BEGIN:VCALENDAR
VERSION:2.0
PRODID:-//ACT for Bees - ECPv6.15.20//NONSGML v1.0//EN
CALSCALE:GREGORIAN
METHOD:PUBLISH
X-ORIGINAL-URL:https://actforbees.org
X-WR-CALDESC:Events for ACT for Bees
REFRESH-INTERVAL;VALUE=DURATION:PT1H
X-Robots-Tag:noindex
X-PUBLISHED-TTL:PT1H
BEGIN:VTIMEZONE
TZID:Australia/Sydney
BEGIN:STANDARD
TZOFFSETFROM:+1100
TZOFFSETTO:+1000
TZNAME:AEST
DTSTART:20240406T160000
END:STANDARD
BEGIN:DAYLIGHT
TZOFFSETFROM:+1000
TZOFFSETTO:+1100
TZNAME:AEDT
DTSTART:20241005T160000
END:DAYLIGHT
BEGIN:STANDARD
TZOFFSETFROM:+1100
TZOFFSETTO:+1000
TZNAME:AEST
DTSTART:20250405T160000
END:STANDARD
BEGIN:DAYLIGHT
TZOFFSETFROM:+1000
TZOFFSETTO:+1100
TZNAME:AEDT
DTSTART:20251004T160000
END:DAYLIGHT
BEGIN:STANDARD
TZOFFSETFROM:+1100
TZOFFSETTO:+1000
TZNAME:AEST
DTSTART:20260404T160000
END:STANDARD
BEGIN:DAYLIGHT
TZOFFSETFROM:+1000
TZOFFSETTO:+1100
TZNAME:AEDT
DTSTART:20261003T160000
END:DAYLIGHT
BEGIN:STANDARD
TZOFFSETFROM:+1100
TZOFFSETTO:+1000
TZNAME:AEST
DTSTART:20270403T160000
END:STANDARD
BEGIN:DAYLIGHT
TZOFFSETFROM:+1000
TZOFFSETTO:+1100
TZNAME:AEDT
DTSTART:20271002T160000
END:DAYLIGHT
END:VTIMEZONE
BEGIN:VEVENT
DTSTART;TZID=Australia/Sydney:20251026T103000
DTEND;TZID=Australia/Sydney:20251026T120000
DTSTAMP:20260421T194319
CREATED:20250927T074016Z
LAST-MODIFIED:20250927T074820Z
UID:4353-1761474600-1761480000@actforbees.org
SUMMARY:MAKE YOUR OWN NATIVE BEE HOTEL
DESCRIPTION:Bees and other pollinators need our help\, and there’s so much we can do in our own backyards. We’re very excited to team up with the Canberra City Farm’s 10th Anniversary celebration to hold an Australian native bee workshop to learn more about the wonderful range of species we have in Canberra and the region.\nParticipants in the workshop will be making a simple bee hotel which has the right dimensions for our local bees. Sadly\, many of the bee hotels available commercially\, are unsuitable for native bees because the holes are too short and/or are made of inappropriate materials.\nSo come along and make your own bee hotel to provide an ideal nesting site in your garden! \nThanks to the generous support of the ACT Government 2025 Environmental grants program\, this workshop is being offered to you free of charge.
URL:https://actforbees.org/event/make-your-own-native-bee-hotel/
LOCATION:Canberra City Farm\, 2 Dairy Road\, Fyshwick\, ACT\, 2609
ATTACH;FMTTYPE=image/png:https://actforbees.org/wp-content/uploads/2025/09/Screenshot-2025-09-27-at-4.19.44-pm.png
END:VEVENT
BEGIN:VEVENT
DTSTART;TZID=Australia/Sydney:20260214T100000
DTEND;TZID=Australia/Sydney:20260214T120000
DTSTAMP:20260421T194319
CREATED:20260109T231109Z
LAST-MODIFIED:20260109T231205Z
UID:4373-1771063200-1771070400@actforbees.org
SUMMARY:'Send a little love our Native Bees' Valentines Day February 14th 2026
DESCRIPTION:Join us for our 4th Native Bee Hotel Workshop\, delivered in partnership with the Ginninderra Catchment Group. A fun\, hands-on session where families can help support local native bees by building bee hotels to take home. \nEvent Details\nDate: Saturday 14 February\nTime: 10:00am – 12:00pm\nWho: Children 8 years and over\, accompanied by a parent or carer \nWhat to Expect\n\nLearn about local native bees and why they matter\nBuild a bee hotel together\nTake your creation home to support pollinators in your garden\n\nHosted by\nACT for Bees + Other Pollinators Inc.\nIn collaboration with the Ginninderra Catchment Group \n📍 Location and booking details to be added\n🐝 Limited places – bookings essential \nPerfect for curious kids\, caring parents\, and anyone who loves bees! \nBookings through Eventbrite coming soon! \nThanks to the ACT Government for funding through the 2025 Environment grants.
URL:https://actforbees.org/event/send-a-little-love-our-native-bees-valentines-day-february-14th-2026/
LOCATION:Ginninderra Catchment Group\, ACT\, Australia
ATTACH;FMTTYPE=image/jpeg:https://actforbees.org/wp-content/uploads/2025/12/IMG_0576.jpeg
END:VEVENT
BEGIN:VEVENT
DTSTART;TZID=Australia/Sydney:20260516T070000
DTEND;TZID=Australia/Sydney:20260516T110000
DTSTAMP:20260421T194319
CREATED:20260408T100917Z
LAST-MODIFIED:20260408T100917Z
UID:4402-1778914800-1778929200@actforbees.org
SUMMARY:World Bee Day 2026 @ Captal Region Farmers Market EPIC
DESCRIPTION:Join us for the celebration for bees and other pollinators at the Capital Region Farmers Market EPIC Canberra.
URL:https://actforbees.org/event/world-bee-day-2026-captal-region-farmers-market-epic/
LOCATION:Exhibition Park in Canberra\, Flemington Rd\, Mitchell ACT 2911\, Canberra\, ACT\, 2911\, Australia
ATTACH;FMTTYPE=image/png:https://actforbees.org/wp-content/uploads/2025/08/Screenshot-2025-08-22-at-4.17.09-pm.png
END:VEVENT
END:VCALENDAR