BEGIN:VCALENDAR
VERSION:2.0
PRODID:-//ACT for Bees - ECPv6.15.20//NONSGML v1.0//EN
CALSCALE:GREGORIAN
METHOD:PUBLISH
X-ORIGINAL-URL:https://actforbees.org
X-WR-CALDESC:Events for ACT for Bees
REFRESH-INTERVAL;VALUE=DURATION:PT1H
X-Robots-Tag:noindex
X-PUBLISHED-TTL:PT1H
BEGIN:VTIMEZONE
TZID:Australia/Sydney
BEGIN:STANDARD
TZOFFSETFROM:+1100
TZOFFSETTO:+1000
TZNAME:AEST
DTSTART:20220402T160000
END:STANDARD
BEGIN:DAYLIGHT
TZOFFSETFROM:+1000
TZOFFSETTO:+1100
TZNAME:AEDT
DTSTART:20221001T160000
END:DAYLIGHT
BEGIN:STANDARD
TZOFFSETFROM:+1100
TZOFFSETTO:+1000
TZNAME:AEST
DTSTART:20230401T160000
END:STANDARD
BEGIN:DAYLIGHT
TZOFFSETFROM:+1000
TZOFFSETTO:+1100
TZNAME:AEDT
DTSTART:20230930T160000
END:DAYLIGHT
BEGIN:STANDARD
TZOFFSETFROM:+1100
TZOFFSETTO:+1000
TZNAME:AEST
DTSTART:20240406T160000
END:STANDARD
BEGIN:DAYLIGHT
TZOFFSETFROM:+1000
TZOFFSETTO:+1100
TZNAME:AEDT
DTSTART:20241005T160000
END:DAYLIGHT
END:VTIMEZONE
BEGIN:VEVENT
DTSTART;TZID=Australia/Sydney:20230422T090000
DTEND;TZID=Australia/Sydney:20230422T110000
DTSTAMP:20260423T053344
CREATED:20230324T035154Z
LAST-MODIFIED:20230324T040039Z
UID:3777-1682154000-1682161200@actforbees.org
SUMMARY:Propagating Your Way To A Pollinator Attracting Garden
DESCRIPTION:Join Julie and Lynne from ACT for Bees for a buzzing workshop on Bees\, butterflies and more! \nYou will learn ways to attract\, maintain and grow your relationship with earth’s pollinators\, walking away with the knowledge of plant propagation\, pollinators’ preferences and all you need to create your own bountiful garden in no time! \nWe will get our hands dirty learning how to propagate a variety of pollinator-attracting plants for you to take home to start your budget-friendly pollinator journey. \nLet’s protect and grow our way into a resilient future for our pollinators. \nACT for Bees with assistance from the ACT Government under the ACT Community Zero Emissions Grants Program.
URL:https://actforbees.org/event/propagating-your-way-to-a-pollinator-attracting-garden/
LOCATION:Canberra City Farm\, 2 Dairy Road\, Fyshwick\, ACT\, 2609
ATTACH;FMTTYPE=image/webp:https://actforbees.org/wp-content/uploads/2023/03/Julie-act-for-bees.webp
END:VEVENT
BEGIN:VEVENT
DTSTART;TZID=Australia/Sydney:20230415T100000
DTEND;TZID=Australia/Sydney:20230415T160000
DTSTAMP:20260423T053344
CREATED:20230324T033659Z
LAST-MODIFIED:20230324T033920Z
UID:3758-1681552800-1681574400@actforbees.org
SUMMARY:ACT for Bees + Other Pollinators @ Ginninderry Inspire Festival
DESCRIPTION:Be inspired to live sustainably and learn about the latest trends\, products and innovations designed for a brighter future. \nTake an EV for a spin. Learn new cooking or gardening skills from soon-to-be-announced guest appearances. Sample food and products from local artisans and producers. And participate in workshops\, tours and activities designed for all ages. \nWhether you want to learn more about a sustainable lifestyle or are simply looking for a fun day out with the family\, Ginninderry’s INSPIRE Festival is an absolute must-experience event.
URL:https://actforbees.org/event/act-for-bees-other-pollinators-ginninderry-inspire-festival/
LOCATION:Ginninderry Display Village and The Link Community Building\, 1 McClymont Wy\, ACT\, ACT\, 2615\, Australia
ATTACH;FMTTYPE=image/jpeg:https://actforbees.org/wp-content/uploads/2023/03/GIN_56511_Inspire_Social_Date_026.jpg
END:VEVENT
END:VCALENDAR