BEGIN:VCALENDAR
VERSION:2.0
PRODID:-//ACT for Bees - ECPv6.15.20//NONSGML v1.0//EN
CALSCALE:GREGORIAN
METHOD:PUBLISH
X-WR-CALNAME:ACT for Bees
X-ORIGINAL-URL:https://actforbees.org
X-WR-CALDESC:Events for ACT for Bees
REFRESH-INTERVAL;VALUE=DURATION:PT1H
X-Robots-Tag:noindex
X-PUBLISHED-TTL:PT1H
BEGIN:VTIMEZONE
TZID:Australia/Sydney
BEGIN:STANDARD
TZOFFSETFROM:+1100
TZOFFSETTO:+1000
TZNAME:AEST
DTSTART:20220402T160000
END:STANDARD
BEGIN:DAYLIGHT
TZOFFSETFROM:+1000
TZOFFSETTO:+1100
TZNAME:AEDT
DTSTART:20221001T160000
END:DAYLIGHT
BEGIN:STANDARD
TZOFFSETFROM:+1100
TZOFFSETTO:+1000
TZNAME:AEST
DTSTART:20230401T160000
END:STANDARD
BEGIN:DAYLIGHT
TZOFFSETFROM:+1000
TZOFFSETTO:+1100
TZNAME:AEDT
DTSTART:20230930T160000
END:DAYLIGHT
BEGIN:STANDARD
TZOFFSETFROM:+1100
TZOFFSETTO:+1000
TZNAME:AEST
DTSTART:20240406T160000
END:STANDARD
BEGIN:DAYLIGHT
TZOFFSETFROM:+1000
TZOFFSETTO:+1100
TZNAME:AEDT
DTSTART:20241005T160000
END:DAYLIGHT
END:VTIMEZONE
BEGIN:VEVENT
DTSTART;TZID=Australia/Sydney:20231111T130000
DTEND;TZID=Australia/Sydney:20231111T150000
DTSTAMP:20260423T041326
CREATED:20231024T233406Z
LAST-MODIFIED:20231024T233406Z
UID:4064-1699707600-1699714800@actforbees.org
SUMMARY:Building Bee Hotels with ACT for Bees
DESCRIPTION:This workshop will focus on the importance of our native bees and pollinators and show you the ideal way to host them in your yard\, from what to plant to attract them to how to provide them with their perfect habitat.\nLearn how to build and take home your own bee hotel\, along with learning all about the different types of native bees who will visit you.\nWith assistance from the ACT Government under the ACT Community Zero Emissions Grants Program.
URL:https://actforbees.org/event/building-bee-hotels-with-act-for-bees/
LOCATION:Gungaderra Homestead\, Harrison\, ACT\, Australia
ATTACH;FMTTYPE=image/png:https://actforbees.org/wp-content/uploads/2023/10/Screen-Shot-2023-10-25-at-10.33.40-am.png
END:VEVENT
BEGIN:VEVENT
DTSTART;TZID=Australia/Sydney:20231111T080000
DTEND;TZID=Australia/Sydney:20231118T170000
DTSTAMP:20260423T041326
CREATED:20231024T234357Z
LAST-MODIFIED:20231024T234357Z
UID:4074-1699689600-1700326800@actforbees.org
SUMMARY:Australian Pollinator Week
DESCRIPTION:Australian Pollinator Week acknowledges our important and unique insect pollinators during our southern spring (November). It is a designated week when communities\, businesses and organisations can come together to raise awareness of the importance of pollinators and support their needs.\nThrough group activities\, community members can learn and laugh together as they help to support our pollinators. By engaging communities in schools\, retirement villages\, art groups\, gardening clubs\, community gardens\, local council areas\, Landcare groups and neighbourhoods we can increase awareness and act on our increased knowledge.
URL:https://actforbees.org/event/australian-pollinator-week/
ATTACH;FMTTYPE=image/png:https://actforbees.org/wp-content/uploads/2023/10/Screen-Shot-2023-10-25-at-10.42.53-am.png
END:VEVENT
BEGIN:VEVENT
DTSTART;TZID=Australia/Sydney:20231105T100000
DTEND;TZID=Australia/Sydney:20231105T150000
DTSTAMP:20260423T041326
CREATED:20231024T234039Z
LAST-MODIFIED:20231024T234100Z
UID:4068-1699178400-1699196400@actforbees.org
SUMMARY:Canberra Organic Growers (COGS) Kambah Open Day
DESCRIPTION:Enjoy exploring the beautiful organic gardens at the OPEN DAY & SEEDLING SALE COGS Kambah Community Garden Saturday 5th November 10am – 3pm Sausage Sizzle Coffee Van Gardening-related Stalls Speakers – Learn about seed saving\, the wonders of bees and how to make fantastic compost from your kitchen scraps! \n  \n 
URL:https://actforbees.org/event/canberra-organic-growers-cogs-kambah-open-day/
LOCATION:Kambah COGS\, Cnr Springbett St and O'Halloran Cct\,\, Canberra\, ACT\, Australia
ATTACH;FMTTYPE=image/png:https://actforbees.org/wp-content/uploads/2023/10/Screen-Shot-2023-10-25-at-10.40.08-am.png
END:VEVENT
BEGIN:VEVENT
DTSTART;TZID=Australia/Sydney:20231030T180000
DTEND;TZID=Australia/Sydney:20231030T200000
DTSTAMP:20260423T041326
CREATED:20231024T235901Z
LAST-MODIFIED:20231024T235901Z
UID:4082-1698688800-1698696000@actforbees.org
SUMMARY:ACT for Bees @ Local Hero finals ACT - Australian of the Year Awards
DESCRIPTION:I wanted to share the exciting news that we (ACT for Bees) have been nominated for ‘Local Hero’ ACT Australian of the Year 2024 awards and we are in the final next Monday 30th October at 6pm.  Go to australianoftheyear.org.au to watch the live stream on Monday 30 October at 6:00pm(AEDT). #WereAllPartOfTheStoryIt is such an honour and I want to thank those who have nominated me as the representative of our group as ‘a voice for the bees and pollinators’. It is an exciting platform to show that bees are ‘more than stings and honey’\, that they are vital for food security\, biodiversity and healthy ecosystems.  With Australian Pollinator week very near\, it’s an amazing opportunity to shine a light on the range of native bees that are particularly vulnerable to pesticides\, habitat disturbance and lack of flowers! We will see how this higher public profile impacts our key message on the importance of pollinators and how we can all support their health and wellbeing by planting for year round flowering in our gardens\, our streetscapes\, our schools and open spaces. This also has a positive impact on our health and wellbeing as a growing body of research is showing.
URL:https://actforbees.org/event/act-for-bees-local-hero-finals-act-australian-of-the-year-awards/
ATTACH;FMTTYPE=image/png:https://actforbees.org/wp-content/uploads/2023/10/Screen-Shot-2023-10-23-at-6.21.16-pm.png
END:VEVENT
BEGIN:VEVENT
DTSTART;TZID=Australia/Sydney:20231025T080000
DTEND;TZID=Australia/Sydney:20231025T170000
DTSTAMP:20260423T041326
CREATED:20231024T232909Z
LAST-MODIFIED:20231024T232909Z
UID:4060-1698220800-1698253200@actforbees.org
SUMMARY:ACT Pollinator Citizen Science Project
DESCRIPTION:This October 2023\, citizen science surveys of insect pollinators will commence as part of the Canberra Urban Biodiversity Surveys (CUBS)\, an exciting new initiative from the ACT Government. Ecologists in the Office of Nature Conservation are calling upon enthusiastic volunteers to conduct simple 30-minute visual surveys of insect pollinators interacting with floral resources at designated monitoring sites. All you need is a camera to capture photos of these pollinators and a computer to upload the photos as a survey to Canberra Nature Map. Be sure to stay tuned to the Canberra Nature Map home page for upcoming details and an official call for volunteers. Your participation will not only contribute to important research on urban biodiversity but also enrich your connection with the fascinating world of insect pollinators! Here is a map that shows all sites (and a 50m buffer around them for surveying purposes)\nSurveys should take around 45 minutes and will need to be completed at least once a month\, or more if people are keen. These are the sites that are currently remaining: Mulanggari NR\, North Mitchell Grassland\, Kenny\, Crace Grasslands Offset\, Franklin Grasslands South\, Dunlop Grassland East\, Yarralumla Grassland West\, Commonwealth Park\,  Fadden Pines\,Tuggeranong Hill NR\, Jerrabomberra East Offset. \n \nShare to contribute\nShare link to contribute to Monitoring Insect Pollinators
URL:https://actforbees.org/event/act-pollinator-citizen-science-project/
ATTACH;FMTTYPE=image/jpeg:https://actforbees.org/wp-content/uploads/2023/10/Lasioglossum-Parasphecodes.jpeg
END:VEVENT
BEGIN:VEVENT
DTSTART;TZID=Australia/Sydney:20231002T120000
DTEND;TZID=Australia/Sydney:20231002T130000
DTSTAMP:20260423T041326
CREATED:20230928T051141Z
LAST-MODIFIED:20230928T051453Z
UID:4039-1696248000-1696251600@actforbees.org
SUMMARY:Bee craft with ACT for Bees @ Floriade
DESCRIPTION:Join ACT for Bees for a buzzing time where you can make your own bee! \nThe whole family is welcome and can take home their very own fuzzy bee. \nWe will supply you with foraged natural materials and crafty supplies; feel free to bring your own supplies to add to your creation. \nWant to know more? See the full range of everything that Floriade has to offer at floriadeaustralia.com \n 
URL:https://actforbees.org/event/bee-craft-with-act-for-bees-floriade/
LOCATION:Floriade\, Commonwealth Park\, Canberra\, ACT\, Australia
ATTACH;FMTTYPE=image/jpeg:https://actforbees.org/wp-content/uploads/2023/09/IMG_3646.jpeg
END:VEVENT
BEGIN:VEVENT
DTSTART;TZID=Australia/Sydney:20230909T110000
DTEND;TZID=Australia/Sydney:20230909T140000
DTSTAMP:20260423T041326
CREATED:20230826T000039Z
LAST-MODIFIED:20230827T072022Z
UID:4003-1694257200-1694268000@actforbees.org
SUMMARY:Canberra Festival of Nature Community Day
DESCRIPTION:We’re excited to be at the launch at Whitlam Display Village (3 Klaus Moje St)\n11-2pm Saturday 9th September.\nWe will be doing a range of children’s activities to bring a buzz to your life: Make a native bee from natural materials\, ‘Be a Bee and pollinate the apple tree’. There will also be  a host of other fun nature walks\, snake handling\, music and dancing.\nFor more information visit: https://fb.me/e/11NQNALGo\nSpecial shout out to Landcare ACT and co-hosts Suburban Land Agency and Woden Community Service.\nThis event will be the first of many held throughout Spring to connect the community with nature by celebrating and exploring the diversity and beauty of our native flora\, fauna\, and unique local ecosystems! We will be sharing these events to our Facebook over the next few weeks\, so keep your eyes 👀 peeled!🐝❤️🌻🌳
URL:https://actforbees.org/event/canberra-festival-of-nature-community-day/
LOCATION:Whtilam Display Village 3 Klaus Moje St\, 3 Klaus Moje St\, Whitlam\, ACT\, Australia
ATTACH;FMTTYPE=image/png:https://actforbees.org/wp-content/uploads/2023/08/Screen-Shot-2023-08-25-at-1.34.40-pm.png
END:VEVENT
BEGIN:VEVENT
DTSTART;VALUE=DATE:20230908
DTEND;VALUE=DATE:20230909
DTSTAMP:20260423T041326
CREATED:20230904T053619Z
LAST-MODIFIED:20230904T053619Z
UID:4024-1694131200-1694217599@actforbees.org
SUMMARY:ACT for Bees @ Country Women's Association NSW Tablelands Festival
DESCRIPTION:PROGRAM\n11.30-12 noon- Help Bees and Other Polliantors- habitat and bee attracting plants for your garden \n12.30-1.30 pm A conversation about neurodiversity- with a apnel including represenatatives from the ADHD Foundation \n2.00-2.30 pm Learn about Forest Therapy- how guided walks through forests nurture your mental health and happiness \n3.30-4.00pm  Neurographic Art- participate in a hands on session- a tool for personal growth and self expression- a perfect way to destress.  \nThe CWA celebrated its centenary in 2022 and is still bringing together women who share a comitment to improving the lives of other women and their families\, especially in regional and rural areas. CWA is the largest women’s organisation in Australia and consults on a variety of areas including health\, education\, agriculture andthe environment\, transport and telecomunications. \nCome along and meet a wide range of other women from our region including Southern Tablelands Group including Braidwood\, Bungendore\, Crookwell\, Crookwell evening\, Goulburn\, Goulburn Evening\, Goulburn Mulwaree\, Major’s Creek\, MArulan\, Queanbeyan\, Tarago\, Taralga and Yass. \n  \n  \n  \n 
URL:https://actforbees.org/event/act-for-bees-country-womens-association-nsw-tablelands-festival/
LOCATION:Goulburn Community Centre\, 157 Auburn St\, Goulburn\, NSW\, 2580\, Australia
END:VEVENT
BEGIN:VEVENT
DTSTART;TZID=Australia/Sydney:20230901T080000
DTEND;TZID=Australia/Sydney:20231130T170000
DTSTAMP:20260423T041326
CREATED:20231024T235132Z
LAST-MODIFIED:20231024T235250Z
UID:4079-1693555200-1701363600@actforbees.org
SUMMARY:Landcare Festival of Nature 
DESCRIPTION:With a range of different events including guided wildflower and bird walks\, froggy fun nights\, photography and nature journaling workshops\, there’s something for everyone. Designed as an umbrella events festival (similar to the Heritage Festival)\, the Festival of Nature allows for a range of Landcare and other volunteer groups and environmental organisations to offer a calendar of diverse events\, centrally supported and promoted by Landcare ACT. The festival will run throughout the Spring of 2023.
URL:https://actforbees.org/event/landcare-festival-of-nature/
ATTACH;FMTTYPE=image/png:https://actforbees.org/wp-content/uploads/2023/10/Screen-Shot-2023-10-25-at-10.50.58-am.png
END:VEVENT
BEGIN:VEVENT
DTSTART;TZID=Australia/Sydney:20230520T110000
DTEND;TZID=Australia/Sydney:20230520T150000
DTSTAMP:20260423T041326
CREATED:20230508T024158Z
LAST-MODIFIED:20230508T220132Z
UID:3931-1684580400-1684594800@actforbees.org
SUMMARY:.beFAIR 2023 World Bee Day @ the Embassy of Belgium
DESCRIPTION:We will be celebrating bees and other pollinators at the 🐝.beFAIR🐝at the Embassy of Belgium on World Bee Day! We will have our education stall with lots of ideas and guides for you to plant up your garden for bees and pollinators. We’ll be selling beautiful bees wax candles\, jars of delicious honey\, our beautiful thermo water bottles with our logo\, stunning brass BEE hatpins handcrafted by Ceilidh Dalton a local Canberra jeweller and the last of our Bee Friendly garden T shirts. Of course we will also have our favourite children’s activity. ‘Be a Bee and Pollinate the Apple Tree as well’ which is so popular with children of all ages (including adults!)\nThere will be food\, drinks\, live acts\, market\, kids corner\, a giant raffle\, an Aboriginal-painted beehive auction and more… All proceeds are going to beekeepers in Ukraine\, so let’s raise some funds💰!!!
URL:https://actforbees.org/event/beefair-2023-world-bee-day-the-embassy-of-belgium/
LOCATION:Embassy of Belgium\, 19 Arkana St\, Yarralumla\, ACT\, 2600\, Australia
ATTACH;FMTTYPE=image/png:https://actforbees.org/wp-content/uploads/2023/05/Screen-Shot-2023-05-07-at-11.43.49-am.png
END:VEVENT
BEGIN:VEVENT
DTSTART;VALUE=DATE:20230520
DTEND;VALUE=DATE:20230521
DTSTAMP:20260423T041326
CREATED:20230324T055524Z
LAST-MODIFIED:20230508T025705Z
UID:3803-1684540800-1684627199@actforbees.org
SUMMARY:World Bee Day Celebrations May 20th
DESCRIPTION:Celebrating World Bee Day 2023 … Let’s celebrate together\, raise awareness and do something good for bees. The main purpose of World Bee Day events is to spread awareness and action for pollinators! The purpose of World Bee day is to raise awareness of the essential role bees and other pollinators play in keeping people and the planet healthy. It provides an opportunity for governments\, organisations\, civil society and concerned citizens everywhere to promote actions that will protect and enhance pollinators and their habitats\, improve their abundance and diversity\, and support the sustainable development of beekeeping. \nBees play an important role in pollinating native plants in our Australian ecosystem. The vast majority of global pollinators are wild including over 20\,000 species of bees. Australia is home to around 2\,000 species of native bees\, the majority of which are solitary bees. \nEuropean Honeybees are social insects that were introduced to pollinate many of the introduced food crops that now form part of a normal Australian diet. Beekeepers migrate their bees to produce honey from diverse flowering events and perform essential pollination services to safeguard our food\, fibre\, forests and fodder crops. \nFood security\nBees are keystone species\, playing a vital role as pollinators. \nGlobal population forecasts predict that we will have close to one third more people in the next 30 years. To feed this growing population and secure the well-being of humankind\, we need to ensure food is available\, accessible\, diverse\, balanced and of good quality. \nPollination is crucial to achieving food security as three out of four crops across the globe producing fruits or seeds for human consumptions as food depend\, at least in part\, on pollinators. Pollinators affect 35 percent of global agricultural land\, supporting the production of 87 of the leading food crops worldwide. \nJoin in the celebrations of these amazing buzzing beings by checking out events near you at the World Bee Day website. Wear yellow to your local Famers Markets to show your support!
URL:https://actforbees.org/event/world-bee-day-celebrations-may-20th/
ATTACH;FMTTYPE=image/png:https://actforbees.org/wp-content/uploads/2023/03/Screen-Shot-2023-05-08-at-12.56.18-pm.png
END:VEVENT
BEGIN:VEVENT
DTSTART;TZID=Australia/Sydney:20230517T180000
DTEND;TZID=Australia/Sydney:20230517T190000
DTSTAMP:20260423T041326
CREATED:20230508T025220Z
LAST-MODIFIED:20230508T030636Z
UID:3935-1684346400-1684350000@actforbees.org
SUMMARY:Create Your Own Pollinator Friendly Garden with ACT For Bees + Other Pollinators
DESCRIPTION:Join Julie and Lynne from ACT for Bees for a buzzing workshop on Bees\, butterflies and more in a free online workshop! This is the 4th workshop in the series this season where we have collaborated with ANU Thrive Kitchen Garden and Canberra City Farm to Plant for Pollinators in their beautiful gardens. \nYou will learn ways to attract\, maintain and grow your relationship with earth’s pollinators\, walking away with the knowledge of plant propagation\, pollinators’ preferences and all you need to create your own bountiful garden in no time! \nGet key skills on how to propagate a variety of pollinator-attracting plants for you to start your budget-friendly pollinator journey. \nLet’s protect and grow our way into a resilient future for our pollinators. \nCheck out the new ACT for Bees + Other Pollinators website! \nWith assistance from the ACT Government under the ACT Community Zero Emissions Grants Program.
URL:https://actforbees.org/event/create-your-own-pollinator-friendly-garden-with-act-for-bees-other-pollinators/
ATTACH;FMTTYPE=image/png:https://actforbees.org/wp-content/uploads/2023/05/ACT-for-bees-8-w-Logos-1.png
END:VEVENT
BEGIN:VEVENT
DTSTART;TZID=Australia/Sydney:20230422T090000
DTEND;TZID=Australia/Sydney:20230422T110000
DTSTAMP:20260423T041326
CREATED:20230324T035154Z
LAST-MODIFIED:20230324T040039Z
UID:3777-1682154000-1682161200@actforbees.org
SUMMARY:Propagating Your Way To A Pollinator Attracting Garden
DESCRIPTION:Join Julie and Lynne from ACT for Bees for a buzzing workshop on Bees\, butterflies and more! \nYou will learn ways to attract\, maintain and grow your relationship with earth’s pollinators\, walking away with the knowledge of plant propagation\, pollinators’ preferences and all you need to create your own bountiful garden in no time! \nWe will get our hands dirty learning how to propagate a variety of pollinator-attracting plants for you to take home to start your budget-friendly pollinator journey. \nLet’s protect and grow our way into a resilient future for our pollinators. \nACT for Bees with assistance from the ACT Government under the ACT Community Zero Emissions Grants Program.
URL:https://actforbees.org/event/propagating-your-way-to-a-pollinator-attracting-garden/
LOCATION:Canberra City Farm\, 2 Dairy Road\, Fyshwick\, ACT\, 2609
ATTACH;FMTTYPE=image/webp:https://actforbees.org/wp-content/uploads/2023/03/Julie-act-for-bees.webp
END:VEVENT
BEGIN:VEVENT
DTSTART;TZID=Australia/Sydney:20230415T100000
DTEND;TZID=Australia/Sydney:20230415T160000
DTSTAMP:20260423T041326
CREATED:20230324T033659Z
LAST-MODIFIED:20230324T033920Z
UID:3758-1681552800-1681574400@actforbees.org
SUMMARY:ACT for Bees + Other Pollinators @ Ginninderry Inspire Festival
DESCRIPTION:Be inspired to live sustainably and learn about the latest trends\, products and innovations designed for a brighter future. \nTake an EV for a spin. Learn new cooking or gardening skills from soon-to-be-announced guest appearances. Sample food and products from local artisans and producers. And participate in workshops\, tours and activities designed for all ages. \nWhether you want to learn more about a sustainable lifestyle or are simply looking for a fun day out with the family\, Ginninderry’s INSPIRE Festival is an absolute must-experience event.
URL:https://actforbees.org/event/act-for-bees-other-pollinators-ginninderry-inspire-festival/
LOCATION:Ginninderry Display Village and The Link Community Building\, 1 McClymont Wy\, ACT\, ACT\, 2615\, Australia
ATTACH;FMTTYPE=image/jpeg:https://actforbees.org/wp-content/uploads/2023/03/GIN_56511_Inspire_Social_Date_026.jpg
END:VEVENT
END:VCALENDAR