BEGIN:VCALENDAR
VERSION:2.0
PRODID:-//ACT for Bees - ECPv6.15.20//NONSGML v1.0//EN
CALSCALE:GREGORIAN
METHOD:PUBLISH
X-WR-CALNAME:ACT for Bees
X-ORIGINAL-URL:https://actforbees.org
X-WR-CALDESC:Events for ACT for Bees
REFRESH-INTERVAL;VALUE=DURATION:PT1H
X-Robots-Tag:noindex
X-PUBLISHED-TTL:PT1H
BEGIN:VTIMEZONE
TZID:Australia/Sydney
BEGIN:STANDARD
TZOFFSETFROM:+1100
TZOFFSETTO:+1000
TZNAME:AEST
DTSTART:20250405T160000
END:STANDARD
BEGIN:DAYLIGHT
TZOFFSETFROM:+1000
TZOFFSETTO:+1100
TZNAME:AEDT
DTSTART:20251004T160000
END:DAYLIGHT
BEGIN:STANDARD
TZOFFSETFROM:+1100
TZOFFSETTO:+1000
TZNAME:AEST
DTSTART:20260404T160000
END:STANDARD
BEGIN:DAYLIGHT
TZOFFSETFROM:+1000
TZOFFSETTO:+1100
TZNAME:AEDT
DTSTART:20261003T160000
END:DAYLIGHT
BEGIN:STANDARD
TZOFFSETFROM:+1100
TZOFFSETTO:+1000
TZNAME:AEST
DTSTART:20270403T160000
END:STANDARD
BEGIN:DAYLIGHT
TZOFFSETFROM:+1000
TZOFFSETTO:+1100
TZNAME:AEDT
DTSTART:20271002T160000
END:DAYLIGHT
END:VTIMEZONE
BEGIN:VEVENT
DTSTART;TZID=Australia/Sydney:20260516T070000
DTEND;TZID=Australia/Sydney:20260516T110000
DTSTAMP:20260421T015830
CREATED:20260408T100917Z
LAST-MODIFIED:20260408T100917Z
UID:4402-1778914800-1778929200@actforbees.org
SUMMARY:World Bee Day 2026 @ Captal Region Farmers Market EPIC
DESCRIPTION:Join us for the celebration for bees and other pollinators at the Capital Region Farmers Market EPIC Canberra.
URL:https://actforbees.org/event/world-bee-day-2026-captal-region-farmers-market-epic/
LOCATION:Exhibition Park in Canberra\, Flemington Rd\, Mitchell ACT 2911\, Canberra\, ACT\, 2911\, Australia
ATTACH;FMTTYPE=image/png:https://actforbees.org/wp-content/uploads/2025/08/Screenshot-2025-08-22-at-4.17.09-pm.png
END:VEVENT
END:VCALENDAR